BEGIN:VCALENDAR
VERSION:2.0
PRODID:-//National Tribal Toxics Council - ECPv6.15.20//NONSGML v1.0//EN
CALSCALE:GREGORIAN
METHOD:PUBLISH
X-ORIGINAL-URL:https://tribaltoxics.org
X-WR-CALDESC:Events for National Tribal Toxics Council
REFRESH-INTERVAL;VALUE=DURATION:PT1H
X-Robots-Tag:noindex
X-PUBLISHED-TTL:PT1H
BEGIN:VTIMEZONE
TZID:UTC
BEGIN:STANDARD
TZOFFSETFROM:+0000
TZOFFSETTO:+0000
TZNAME:UTC
DTSTART:20220101T000000
END:STANDARD
END:VTIMEZONE
BEGIN:VEVENT
DTSTART;VALUE=DATE:20230417
DTEND;VALUE=DATE:20230422
DTSTAMP:20260423T104440
CREATED:20230418T171210Z
LAST-MODIFIED:20230418T171210Z
UID:80-1681689600-1682121599@tribaltoxics.org
SUMMARY:NTTC Face to Face Meeting
DESCRIPTION:
URL:https://tribaltoxics.org/event/nttc-face-to-face-meeting/
END:VEVENT
END:VCALENDAR